BEGIN:VCALENDAR
VERSION:2.0
PRODID:-//picotee - ECPv5.8.2//NONSGML v1.0//EN
CALSCALE:GREGORIAN
METHOD:PUBLISH
X-WR-CALNAME:picotee
X-ORIGINAL-URL:http://picotee.de/blog
X-WR-CALDESC:Veranstaltungen für picotee
BEGIN:VTIMEZONE
TZID:Europe/Berlin
BEGIN:DAYLIGHT
TZOFFSETFROM:+0100
TZOFFSETTO:+0200
TZNAME:CEST
DTSTART:20150329T010000
END:DAYLIGHT
BEGIN:STANDARD
TZOFFSETFROM:+0200
TZOFFSETTO:+0100
TZNAME:CET
DTSTART:20151025T010000
END:STANDARD
END:VTIMEZONE
BEGIN:VEVENT
DTSTART;VALUE=DATE:20150606
DTEND;VALUE=DATE:20150608
DTSTAMP:20260423T034203
CREATED:20150518T135414Z
LAST-MODIFIED:20150518T135414Z
UID:571-1433548800-1433721599@picotee.de
SUMMARY:Eppendorfer Landstrassenfest
DESCRIPTION:Große Festmeile mit Kunsthandwerk- und Design\, tolle Live-Musik\, zwei Kinderspielflächen\, legendäres Kellnerrennen\, Anliegerflohmarkt und KidsWalk am Sonntag \nGenauere Infos und ein Programmplan gib es auf http://www.hamburg.de.
URL:http://picotee.de/blog/event/eppendorfer-landstrassenfest/
LOCATION:Eppendorfer Landstraße\, Eppendorfer Landstraße\, Hamburg\, Hamburg\, Deutschland
CATEGORIES:Design und Kreatives,Flohmarkt,Food,Markt,Straßenfest
END:VEVENT
END:VCALENDAR